BEGIN:VCALENDAR
VERSION:2.0
CALSCALE:GREGORIAN
PRODID:adamgibbons/ics
METHOD:PUBLISH
X-PUBLISHED-TTL:PT1H
BEGIN:VEVENT
UID:194@akce.cyberladies.cz
SUMMARY:Pravidelné Brněnské Pyvo
DTSTAMP:20260425T233046Z
DTSTART:20260430T170000Z
DTEND:20260430T210000Z
URL:https://akce.cyberladies.cz/event/pravidelne-brnenske-pyvo-27
GEO:49.1922443;16.6113382
LOCATION:Brno - Brno
STATUS:CONFIRMED
CATEGORIES:Brno,Python,czech,english,open-source,programming
END:VEVENT
BEGIN:VEVENT
UID:146@akce.cyberladies.cz
SUMMARY:DevConf 2026
DTSTAMP:20260425T233046Z
DTSTART:20260618T060000Z
DTEND:20260619T160000Z
URL:https://akce.cyberladies.cz/event/devconf-2026
GEO:49.2265202;16.5970965
LOCATION:Brno\, VUT - FIT - Božetěchova 1/2\, 612 00 Brno-Královo Pole
STATUS:CONFIRMED
CATEGORIES:Brno,cybersecurity,czech,english,in-person,online,open-source
END:VEVENT
END:VCALENDAR
